BEGIN:VCALENDAR
VERSION:2.0
PRODID:-//Ikasi Formacion PRL - ECPv6.15.18//NONSGML v1.0//EN
CALSCALE:GREGORIAN
METHOD:PUBLISH
X-ORIGINAL-URL:https://ikasiformacion.com
X-WR-CALDESC:Eventos para Ikasi Formacion PRL
REFRESH-INTERVAL;VALUE=DURATION:PT1H
X-Robots-Tag:noindex
X-PUBLISHED-TTL:PT1H
BEGIN:VTIMEZONE
TZID:UTC
BEGIN:STANDARD
TZOFFSETFROM:+0000
TZOFFSETTO:+0000
TZNAME:UTC
DTSTART:20170101T000000
END:STANDARD
END:VTIMEZONE
BEGIN:VEVENT
DTSTART;TZID=UTC:20181121T080000
DTEND;TZID=UTC:20181121T170000
DTSTAMP:20260423T110439
CREATED:20181017T095254Z
LAST-MODIFIED:20181121T162344Z
UID:2826-1542787200-1542819600@ikasiformacion.com
SUMMARY:CARRETILLA ELEVADORA 21 DE NOVIEMBRE: FORMACIÓN TEÓRICO PRÁCTICA
DESCRIPTION:Curso TEORICO PRACTICO orientado  tanto a trabajadores que desarrollan o que pretenden realizar sus trabajos con carretillas elevadoras de diferente capacidad de elevación como a  personal con responsabilidad en el control de materiales y ejecución de trabajos (encargados\, \, técnicos en PRL\,)
URL:https://ikasiformacion.com/curso/carretilla-elevadora-21-de-noviembre-formacion-teorico-practica/
LOCATION:Gipuzkoa
ATTACH;FMTTYPE=image/jpeg:https://ikasiformacion.com/wp-content/uploads/2018/10/2826_image_original.jpg
END:VEVENT
END:VCALENDAR